BEGIN:VCALENDAR
VERSION:2.0
PRODID:-//South Church in Andover - ECPv6.15.20//NONSGML v1.0//EN
CALSCALE:GREGORIAN
METHOD:PUBLISH
X-WR-CALNAME:South Church in Andover
X-ORIGINAL-URL:https://southchurch.com
X-WR-CALDESC:Events for South Church in Andover
REFRESH-INTERVAL;VALUE=DURATION:PT1H
X-Robots-Tag:noindex
X-PUBLISHED-TTL:PT1H
BEGIN:VTIMEZONE
TZID:UTC
BEGIN:STANDARD
TZOFFSETFROM:+0000
TZOFFSETTO:+0000
TZNAME:UTC
DTSTART:20250101T000000
END:STANDARD
END:VTIMEZONE
BEGIN:VEVENT
DTSTART;TZID=UTC:20260417T070000
DTEND;TZID=UTC:20260417T080000
DTSTAMP:20260421T045342
CREATED:20200922T221918Z
LAST-MODIFIED:20260407T153901Z
UID:1205-1776409200-1776412800@southchurch.com
SUMMARY:Men's Breakfast Group
DESCRIPTION:Coffee\, conversation\, and community—open to all men\, male-identifying & non-binary folks. Questions? contact: John Wiggins.
URL:https://southchurch.com/event/mens-breakfast
ATTACH;FMTTYPE=image/jpeg:https://southchurch.com/wp/wp-content/uploads/2020/09/Website-Event-Thumbnail-12.jpg
END:VEVENT
END:VCALENDAR