BEGIN:VCALENDAR
VERSION:2.0
PRODID:-//South Church in Andover - ECPv6.15.20//NONSGML v1.0//EN
CALSCALE:GREGORIAN
METHOD:PUBLISH
X-WR-CALNAME:South Church in Andover
X-ORIGINAL-URL:https://southchurch.com
X-WR-CALDESC:Events for South Church in Andover
REFRESH-INTERVAL;VALUE=DURATION:PT1H
X-Robots-Tag:noindex
X-PUBLISHED-TTL:PT1H
BEGIN:VTIMEZONE
TZID:UTC
BEGIN:STANDARD
TZOFFSETFROM:+0000
TZOFFSETTO:+0000
TZNAME:UTC
DTSTART:20250101T000000
END:STANDARD
END:VTIMEZONE
BEGIN:VTIMEZONE
TZID:America/New_York
BEGIN:DAYLIGHT
TZOFFSETFROM:-0500
TZOFFSETTO:-0400
TZNAME:EDT
DTSTART:20250309T070000
END:DAYLIGHT
BEGIN:STANDARD
TZOFFSETFROM:-0400
TZOFFSETTO:-0500
TZNAME:EST
DTSTART:20251102T060000
END:STANDARD
BEGIN:DAYLIGHT
TZOFFSETFROM:-0500
TZOFFSETTO:-0400
TZNAME:EDT
DTSTART:20260308T070000
END:DAYLIGHT
BEGIN:STANDARD
TZOFFSETFROM:-0400
TZOFFSETTO:-0500
TZNAME:EST
DTSTART:20261101T060000
END:STANDARD
BEGIN:DAYLIGHT
TZOFFSETFROM:-0500
TZOFFSETTO:-0400
TZNAME:EDT
DTSTART:20270314T070000
END:DAYLIGHT
BEGIN:STANDARD
TZOFFSETFROM:-0400
TZOFFSETTO:-0500
TZNAME:EST
DTSTART:20271107T060000
END:STANDARD
END:VTIMEZONE
BEGIN:VEVENT
DTSTART;TZID=UTC:20260419T083000
DTEND;TZID=UTC:20260419T094500
DTSTAMP:20260419T104610
CREATED:20170802T121650Z
LAST-MODIFIED:20260414T141339Z
UID:81-1776587400-1776591900@southchurch.com
SUMMARY:Faith Forum
DESCRIPTION:Faith Forum\, an inclusive and vibrant discussion group\, warmly invites everyone to join our weekly gatherings. We delve into topics that matter—exploring the intersections of faith\, Social Justice\, the Climate Crisis\, and Spirituality. Through thoughtful reflection and engaging conversations\, we challenge ourselves and each other to grow spiritually and intellectually. \n\n\n\nOur meetings are dynamic and diverse\, incorporating a variety of materials including books\, articles\, podcasts\, and videos. Each week\, we come together to share insights\, pose questions\, and support one another on our journeys. Whether you’re seeking deep reflection or friendly debate\, Faith Forum is a space where all voices are heard and valued. \n\n\n\nJoin us as we navigate the complexities of our world with faith\, curiosity\, and a commitment to making a positive impact. \n\n\n\nLet’s learn\, grow\, and inspire each other—one discussion at a time. We gather in-person and connect through Zoom.  \n\n\n\n\nClick to join the Zoom\n\n\n\n\nMeeting ID: 328 836 171   Password: 361 851 \n\n\n\n\n\n\n\nFaith Forum books and topics 2022-24 \n\n\n\n“Climate Crisis”\, Bill Schroeder and Tim Smith lead with recent news and updates\, every first Sunday of the month \n\n\n\nDrawdown: The Most Comprehensive Plan Ever Proposed to Reverse Global Warming by Paul Hawken\, ed. 2017 \n\n\n\nClimate Church\, Climate World by Jim Antal | Mar 23\, 2023 \n\n\n\nThe Gift of Years: Growing Older Gracefully by Joan Chittister | Sep 1\, 2010 \n\n\n\nAdvent Series  John1\, 1-14\, Looking spiritually at Jesus\, in the beginning\, the Word made flesh\, led by Janet Clarke  “A Look a Luke and Matthew\, Mixed Up Scripture” and “The Star of Bethlehem”\, written and led by Judy Olmstead \n\n\n\nPoetry with Mark Bohrer\, Almost Whole\, Poet Laureate of North Andover\, \n\n\n\nHow to Know a Person by David Brooks \n\n\n\nHow to Begin When Your World Is Ending: A Spiritual Field Guide to Joy Despite Everything by Molly Phinney Baskette | November 15\, 2022 \n\n\n\nOur Hidden Conversations: What Americans Really Think About Race and Identity by Michelle Norris \n\n\n\nBraiding Sweetgrass: Indigenous Wisdom\, Scientific Knowledge and the Teachings of Plants by Robin Wall Kimmerer | Sep 16\, 2013 \n\n\n\nLaudato Si by Pope Francis \n\n\n\nTopics: \n\n\n\nPFAS\, The problem\, and some water filtration cures with Wayne Gendron \n\n\n\nTrans Ministry and LGBTQ+ Issues with Rev. Renee Manning \n\n\n\nProgressive church/Church change with Janet Clarke \n\n\n\nMusic Therapy with Chris Ouimet \n\n\n\nWaking Up White\, and Finding Myself in the Story of Race by Debby Irving (Author) Debby White came to our church to speak with us in a community-wide event.
URL:https://southchurch.com/event/faith-forum
CATEGORIES:Bible,Meetings
ATTACH;FMTTYPE=image/png:https://southchurch.com/wp/wp-content/uploads/2017/08/wordcloud.png
END:VEVENT
BEGIN:VEVENT
DTSTART;TZID=America/New_York:20260419T130000
DTEND;TZID=America/New_York:20260419T143000
DTSTAMP:20260419T104610
CREATED:20231017T191222Z
LAST-MODIFIED:20260318T160209Z
UID:7148-1776603600-1776609000@southchurch.com
SUMMARY:TransParent Support Group
DESCRIPTION:a supportive community of parents\, grandparents\, and guardians of trans\, nonbinary\, and gender nonconforming kids \n\n\n\nMeets monthly. For location and exact time\, click here to contact Pastor Genna.
URL:https://southchurch.com/event/transparent-support-group
ATTACH;FMTTYPE=image/jpeg:https://southchurch.com/wp/wp-content/uploads/2023/10/TRANSparent.jpg
END:VEVENT
BEGIN:VEVENT
DTSTART;TZID=UTC:20260419T170000
DTEND;TZID=UTC:20260419T183000
DTSTAMP:20260419T104610
CREATED:20201125T213648Z
LAST-MODIFIED:20260331T205415Z
UID:1696-1776618000-1776623400@southchurch.com
SUMMARY:Seekers Bible Study
DESCRIPTION:Bible study is a wonderful way to get to know people on a deeper level. It has proved to be both true and rewarding for many in the group. All are welcome! Email Genna. In the South Church library and on Zoom on the 1st and 3rd Sundays of each month. \n\n\n\nMeeting ID: 894 9810 7092Passcode: 207975 \n\n\n\n\nJoin Zoom Meeting
URL:https://southchurch.com/event/bible-study
CATEGORIES:Bible
ATTACH;FMTTYPE=image/jpeg:https://southchurch.com/wp/wp-content/uploads/2020/11/aaron-burden-QJDzYT_K8Xg-unsplash-scaled-e1683220539157.jpg
END:VEVENT
BEGIN:VEVENT
DTSTART;TZID=America/New_York:20260419T231500
DTEND;TZID=America/New_York:20260419T233000
DTSTAMP:20260419T104610
CREATED:20250616T174256Z
LAST-MODIFIED:20260401T204335Z
UID:9040-1776640500-1776641400@southchurch.com
SUMMARY:Adult Mission Trip Registration Deadline
DESCRIPTION:Adult Mission Trip to Pine Ridge\, South DakotaSat.\, Sept. 12th–Fri.\, Sept. 18th | Pine Ridge Reservation \n\n\n\nJoin South Church on a service-learning trip with Re-Member\, working alongside the Oglala Lakota Nation. Open to adults 21+. Senior Week means less physically demanding projects\, but all ages welcome! Trip fee: $800. Register by April 19th. All are welcome!
URL:https://southchurch.com/event/remember
ATTACH;FMTTYPE=image/png:https://southchurch.com/wp/wp-content/uploads/2026/01/2-e1767714768755.png
END:VEVENT
END:VCALENDAR